BEGIN:VCALENDAR
VERSION:2.0
PRODID:-//John Orlikow - ECPv6.15.11//NONSGML v1.0//EN
CALSCALE:GREGORIAN
METHOD:PUBLISH
X-ORIGINAL-URL:https://orlikow.ca
X-WR-CALDESC:Events for John Orlikow
REFRESH-INTERVAL;VALUE=DURATION:PT1H
X-Robots-Tag:noindex
X-PUBLISHED-TTL:PT1H
BEGIN:VTIMEZONE
TZID:America/Winnipeg
BEGIN:DAYLIGHT
TZOFFSETFROM:-0600
TZOFFSETTO:-0500
TZNAME:CDT
DTSTART:20240310T080000
END:DAYLIGHT
BEGIN:STANDARD
TZOFFSETFROM:-0500
TZOFFSETTO:-0600
TZNAME:CST
DTSTART:20241103T070000
END:STANDARD
BEGIN:DAYLIGHT
TZOFFSETFROM:-0600
TZOFFSETTO:-0500
TZNAME:CDT
DTSTART:20250309T080000
END:DAYLIGHT
BEGIN:STANDARD
TZOFFSETFROM:-0500
TZOFFSETTO:-0600
TZNAME:CST
DTSTART:20251102T070000
END:STANDARD
BEGIN:DAYLIGHT
TZOFFSETFROM:-0600
TZOFFSETTO:-0500
TZNAME:CDT
DTSTART:20260308T080000
END:DAYLIGHT
BEGIN:STANDARD
TZOFFSETFROM:-0500
TZOFFSETTO:-0600
TZNAME:CST
DTSTART:20261101T070000
END:STANDARD
BEGIN:DAYLIGHT
TZOFFSETFROM:-0600
TZOFFSETTO:-0500
TZNAME:CDT
DTSTART:20270314T080000
END:DAYLIGHT
BEGIN:STANDARD
TZOFFSETFROM:-0500
TZOFFSETTO:-0600
TZNAME:CST
DTSTART:20271107T070000
END:STANDARD
END:VTIMEZONE
BEGIN:VEVENT
DTSTART;TZID=America/Winnipeg:20260324T173000
DTEND;TZID=America/Winnipeg:20260324T190000
DTSTAMP:20260419T111817
CREATED:20260226T180131Z
LAST-MODIFIED:20260226T180131Z
UID:4270-1774373400-1774378800@orlikow.ca
SUMMARY:Parent /Caregiver Education Support Group
DESCRIPTION:
URL:https://orlikow.ca/event/parent-caregiver-education-support-group/
END:VEVENT
BEGIN:VEVENT
DTSTART;TZID=America/Winnipeg:20260321T100000
DTEND;TZID=America/Winnipeg:20260321T120000
DTSTAMP:20260419T111817
CREATED:20260227T184828Z
LAST-MODIFIED:20260227T184828Z
UID:4282-1774087200-1774094400@orlikow.ca
SUMMARY:GIANT SPRING AND SUMMER CLOTHING SALE
DESCRIPTION:
URL:https://orlikow.ca/event/giant-spring-and-summer-clothing-sale-2/
END:VEVENT
BEGIN:VEVENT
DTSTART;TZID=America/Winnipeg:20260320T173000
DTEND;TZID=America/Winnipeg:20260320T193000
DTSTAMP:20260419T111817
CREATED:20260227T184610Z
LAST-MODIFIED:20260227T184610Z
UID:4277-1774027800-1774035000@orlikow.ca
SUMMARY:GIANT SPRING AND SUMMER CLOTHING SALE
DESCRIPTION:
URL:https://orlikow.ca/event/giant-spring-and-summer-clothing-sale/
END:VEVENT
BEGIN:VEVENT
DTSTART;TZID=America/Winnipeg:20260311T190000
DTEND;TZID=America/Winnipeg:20260311T210000
DTSTAMP:20260419T111817
CREATED:20260306T171755Z
LAST-MODIFIED:20260306T171755Z
UID:4291-1773255600-1773262800@orlikow.ca
SUMMARY:Art As A Healer and Teacher
DESCRIPTION:
URL:https://orlikow.ca/event/art-as-a-healer-and-teacher/
END:VEVENT
BEGIN:VEVENT
DTSTART;TZID=America/Winnipeg:20260304T123000
DTEND;TZID=America/Winnipeg:20260304T150000
DTSTAMP:20260419T111817
CREATED:20260226T175412Z
LAST-MODIFIED:20260226T175412Z
UID:4266-1772627400-1772636400@orlikow.ca
SUMMARY:Senior Wednesdays - March 2026
DESCRIPTION:
URL:https://orlikow.ca/event/senior-wednesdays-march-2026/
END:VEVENT
BEGIN:VEVENT
DTSTART;TZID=America/Winnipeg:20260228T160000
DTEND;TZID=America/Winnipeg:20260228T200000
DTSTAMP:20260419T111817
CREATED:20260209T190412Z
LAST-MODIFIED:20260209T190412Z
UID:4228-1772294400-1772308800@orlikow.ca
SUMMARY:Year of The Horse Celebration
DESCRIPTION:  \nhttps://www.enggeombchinese.com/events-1/volunteers-registration-wcas-spring-festival-gala \n  \nHere is the link to purchase the tickets. \nhttps://www.enggeombchinese.com/events-1/public-registration-wcas-spring-festival-gala
URL:https://orlikow.ca/event/year-of-the-horse-celebration/
LOCATION:Southlands Community Church\, 85 Keslar Rd\, Winnipeg\, Manitoba\, Canada
END:VEVENT
BEGIN:VEVENT
DTSTART;TZID=America/Winnipeg:20260227T170000
DTEND;TZID=America/Winnipeg:20260227T190000
DTSTAMP:20260419T111817
CREATED:20260217T193203Z
LAST-MODIFIED:20260217T193203Z
UID:4258-1772211600-1772218800@orlikow.ca
SUMMARY:Perogy Supper at Holy Family Ukrainian Catholic Church
DESCRIPTION:
URL:https://orlikow.ca/event/perogy-supper-at-holy-family-ukrainian-catholic-church/
LOCATION:Holy Family Ukrainian Church\, 1001 Grant Ave\, Winnipeg\, Manitoba\, R3M1Y3\, Canada
END:VEVENT
BEGIN:VEVENT
DTSTART;TZID=America/Winnipeg:20260212T173000
DTEND;TZID=America/Winnipeg:20260212T193000
DTSTAMP:20260419T111817
CREATED:20260210T185343Z
LAST-MODIFIED:20260210T185343Z
UID:4238-1770917400-1770924600@orlikow.ca
SUMMARY:Income Tax: Filing Income Tax as a Newcomer
DESCRIPTION:
URL:https://orlikow.ca/event/income-tax-filing-income-tax-as-a-newcomer/
END:VEVENT
BEGIN:VEVENT
DTSTART;TZID=America/Winnipeg:20260208T133000
DTEND;TZID=America/Winnipeg:20260208T163000
DTSTAMP:20260419T111817
CREATED:20260206T183644Z
LAST-MODIFIED:20260206T183644Z
UID:4223-1770557400-1770568200@orlikow.ca
SUMMARY:Linden Woods Community  Centre WINTER FESTIVAL
DESCRIPTION:Sunday February 8th – 1:30pm to 4:30pm \nCome join us celebrate winter at the Lindon Woods community Centre! \nThere will be skating\, hockey\, cross country-ski trails\, our ski library\, horse drawn sleigh rides\, a bonfire\, some marshmallow roasting\, and a hot chocolate bar!
URL:https://orlikow.ca/event/linden-woods-community-centre-winter-festival/
LOCATION:Linden Woods Community Centre\, 414 Lindenwood Dr W\, Winnipeg\, MB\, Canada
END:VEVENT
BEGIN:VEVENT
DTSTART;TZID=America/Winnipeg:20260204T090000
DTEND;TZID=America/Winnipeg:20260211T120000
DTSTAMP:20260419T111817
CREATED:20260113T180536Z
LAST-MODIFIED:20260206T190204Z
UID:4184-1770195600-1770811200@orlikow.ca
SUMMARY:Blooming Words 6 Week Parent-Child Language Stimulation Sessions
DESCRIPTION:  \nFort Garry/St. Norbert Healthy Child Coalition BW poster Feb 2026 – 1\n 
URL:https://orlikow.ca/event/blooming-words-parent-child-language-stimulation-sessions/
END:VEVENT
BEGIN:VEVENT
DTSTART;TZID=America/Winnipeg:20260201T140000
DTEND;TZID=America/Winnipeg:20260201T170000
DTSTAMP:20260419T111817
CREATED:20260120T154405Z
LAST-MODIFIED:20260120T154405Z
UID:4194-1769954400-1769965200@orlikow.ca
SUMMARY:Skate the Oval 2026
DESCRIPTION:
URL:https://orlikow.ca/event/skate-the-oval-2026/
END:VEVENT
BEGIN:VEVENT
DTSTART;TZID=America/Winnipeg:20260131T140000
DTEND;TZID=America/Winnipeg:20260131T220000
DTSTAMP:20260419T111817
CREATED:20260120T213838Z
LAST-MODIFIED:20260120T213838Z
UID:4199-1769868000-1769896800@orlikow.ca
SUMMARY:Fort Garry Community Center Winter Carnival 2026
DESCRIPTION:
URL:https://orlikow.ca/event/fort-garry-community-center-winter-carnival-2026/
END:VEVENT
BEGIN:VEVENT
DTSTART;TZID=America/Winnipeg:20260119T170000
DTEND;TZID=America/Winnipeg:20260316T190000
DTSTAMP:20260419T111817
CREATED:20251104T181143Z
LAST-MODIFIED:20251104T181143Z
UID:4033-1768842000-1773687600@orlikow.ca
SUMMARY:Circle of Security Parenting TM
DESCRIPTION:Dates: Mondays: January 19\, January 26\, February 2\, February 9\, February 23\, March 2\, March 9\,\nMarch 16\, 2026\nTime: 5:00pm- 7:00pm\nCost: Free\nLocation: Room 166\, Access Fort Garry 135 Plaza Dr\, Winnipeg\, MB\, R3T 6E8\nPresented By: Laura Smith\, BSW\, MACP\, RSW\, COSP Facilitator \nAt times all parents feel lost or without a clue about what our child might need from us. Imagine\nwhat it might feel like if you were able to make sense of what your child was really asking from you.\nThe Circle of Security Parenting™ program is based on decades of research about how secure\nparent-child relationships can be supported and strengthened.\nLearning Objectives of the Program:\n• Understand your child’s emotional world by learning to read the emotional needs\n• Support your child’s ability to successfully manage emotions\n• Enhance the development of your child’s self esteem\n• Honor your innate wisdom and desire for your child to be secure\nWho Should Attend:\n• Although any caregiver can attend this training\, it is recommended for parents of children\naged 0-6\n• Caregivers looking to strengthen\, support and develop healthy attachment with their\nchildren \nTo Register please call 204-940-7494 \nParticipants will receive a Certificate of Completion following the eight-week course
URL:https://orlikow.ca/event/circle-of-security-parenting-tm/
LOCATION:ACCESS Fort Garry\, 135 Plaza Drive\, Winnipeg\, Manitoba\, R3T 6E8\, Canada
END:VEVENT
BEGIN:VEVENT
DTSTART;TZID=America/Winnipeg:20260107T170000
DTEND;TZID=America/Winnipeg:20260326T210000
DTSTAMP:20260419T111817
CREATED:20260107T181532Z
LAST-MODIFIED:20260107T181532Z
UID:4180-1767805200-1774558800@orlikow.ca
SUMMARY:WAG Wednesday Nights
DESCRIPTION:Kick-off party featuring Begonia \n  \nWe’re launching WAG Wednesday Nights in style. Join us for an unforgettable evening with acclaimed Winnipeg artist Begonia\, performing live for one night only\, as we kick off your new mid-week ritual.\nBeginning\, January 7\, 2026\, WAG Wednesday Nights offer free admission to the galleries and more Wednesday evenings (5-9pm)\, for the next three years. \nSurrounded by inspiring art and an atmosphere you won’t find anywhere else\, this is your chance to start the year with something vibrant\, unexpected\, and completely unique to WAG-Qaumajuq. \nBring friends or come alone\, grab a drink\, explore the exhibitions\, and experience the Gallery in a whole new light.
URL:https://orlikow.ca/event/wag-wednesday-nights/
END:VEVENT
BEGIN:VEVENT
DTSTART;TZID=America/Winnipeg:20251231T070000
DTEND;TZID=America/Winnipeg:20260101T010000
DTSTAMP:20260419T111817
CREATED:20251223T181713Z
LAST-MODIFIED:20251223T181713Z
UID:4172-1767164400-1767229200@orlikow.ca
SUMMARY:Ride free with Winnipeg Transit on New Year’s Eve
DESCRIPTION:MPI has sponsored the Free Ride Program since 2011 \n  \nGet home safely on New Year’s Eve with Winnipeg Transit. \n  \nThe City of Winnipeg and Manitoba Public Insurance (MPI) have teamed up again to offer the Free Ride Program. All Regular and Transit Plus service is free on Wednesday\, December 31\, from 7 p.m. until the end of service. \n  \nThe last buses will leave downtown at approximately 1:30 a.m. Remember to plan your trip using Navigo. It is available on our website and through the Winnipeg Transit app. \n  \n  \nWith recent schedule updates\, we’re reminding our passengers On-Request service will run until approximately 2 a.m. in 10 zones on New Year’s Eve. Passengers who wish to use On-Request are advised to request their trips at least 20 minutes before the end of service. \n  \nIn 2025\, 13 people have been killed on Manitoba’s roadways due to impaired driving. This year\, 2\,162 drivers have been found to be driving impaired\, putting their lives and the lives of everyone on the road at risk. \n  \nNew Year’s Eve is a time of celebration and looking forward to all the good that is to come in the new year \n  \nManitoba continues to have among the toughest penalties in Canada for driving under the influence of alcohol or drugs. \n  \nDriving impaired by either drugs or alcohol comes with severe consequences. This can include an impounded vehicle\, suspended license\, mandatory ignition lock\, large fines\, increased premiums\, and\, in some cases\, criminal charges
URL:https://orlikow.ca/event/ride-free-with-winnipeg-transit-on-new-years-eve/
END:VEVENT
BEGIN:VEVENT
DTSTART;TZID=America/Winnipeg:20251221T150000
DTEND;TZID=America/Winnipeg:20251221T170000
DTSTAMP:20260419T111817
CREATED:20251215T223202Z
LAST-MODIFIED:20251215T223202Z
UID:4147-1766329200-1766336400@orlikow.ca
SUMMARY:You’re invited: Spend a holiday afternoon with our dogs
DESCRIPTION:Winnipeg Animal Services’ Holiday Open House returns on December 21\n\n\n\nKyrie is one of the dogs looking for his “furever” home this holiday season.\n\n\n\nJoin Winnipeg Animal Services for their Holiday Open House and make this festive day brighter for our animals. \nYou’ll get to spread some holiday cheer to our adoptable pets and make them feel special with some extra love and attention. \nEvent details\nOn Sunday\, December 21\, come visit us at 1057 Logan Ave. from 3 p.m. to 5 p.m. to meet our adoptable dogs and enjoy some hot coffee and hot chocolate. \nThis event is the perfect way for any animal lover to give back to their community. \nDonation drive\nYour donations make all the difference to our dogs at the shelter. If you’re not sure what to bring\, we’ve put together a holiday wish list: \n\nLaundry soap\nSlip leads\nShampoo for dogs\nHot dogs\n6-foot leashes\nMartingale collars\nKongs\nEnrichment items\nToys\n\nIf you can’t make it to our holiday open house\, you can drop off donations Monday through Friday from noon to 6 p.m. and Saturday and Sunday from noon to 5 p.m. \nThank you\, Winnipeg!\nYour support helps us keep giving our dogs the best care possible. Together\, we can make this season one for our dogs to remember.
URL:https://orlikow.ca/event/youre-invited-spend-a-holiday-afternoon-with-our-dogs-2/
END:VEVENT
BEGIN:VEVENT
DTSTART;TZID=America/Winnipeg:20251219T140000
DTEND;TZID=America/Winnipeg:20251219T160000
DTSTAMP:20260419T111817
CREATED:20251215T224229Z
LAST-MODIFIED:20251215T224229Z
UID:4149-1766152800-1766160000@orlikow.ca
SUMMARY:14th Annual Cycle with SAnta
DESCRIPTION:
URL:https://orlikow.ca/event/14th-annual-cycle-with-santa/
END:VEVENT
BEGIN:VEVENT
DTSTART;TZID=America/Winnipeg:20251218T173000
DTEND;TZID=America/Winnipeg:20251218T193000
DTSTAMP:20260419T111817
CREATED:20251201T192056Z
LAST-MODIFIED:20251201T192056Z
UID:4114-1766079000-1766086200@orlikow.ca
SUMMARY:Self-care\, Developing Self Care Culture
DESCRIPTION:
URL:https://orlikow.ca/event/self-care-developing-self-care-culture4/
END:VEVENT
BEGIN:VEVENT
DTSTART;TZID=America/Winnipeg:20251215T080000
DTEND;TZID=America/Winnipeg:20251215T170000
DTSTAMP:20260419T111817
CREATED:20251215T221140Z
LAST-MODIFIED:20251215T221140Z
UID:4138-1765785600-1765818000@orlikow.ca
SUMMARY:You’re invited: Spend a holiday afternoon with our dogs
DESCRIPTION:Winnipeg Animal Services’ Holiday Open House returns on December 21\n\n\n\nKyrie is one of the dogs looking for his “furever” home this holiday season.\n\n\n\nJoin Winnipeg Animal Services for their Holiday Open House and make this festive day brighter for our animals. \nYou’ll get to spread some holiday cheer to our adoptable pets and make them feel special with some extra love and attention. \nEvent details\nOn Sunday\, December 21\, come visit us at 1057 Logan Ave. from 3 p.m. to 5 p.m. to meet our adoptable dogs and enjoy some hot coffee and hot chocolate. \nThis event is the perfect way for any animal lover to give back to their community. \nDonation drive\nYour donations make all the difference to our dogs at the shelter. If you’re not sure what to bring\, we’ve put together a holiday wish list: \n\nLaundry soap\nSlip leads\nShampoo for dogs\nHot dogs\n6-foot leashes\nMartingale collars\nKongs\nEnrichment items\nToys\n\nIf you can’t make it to our holiday open house\, you can drop off donations Monday through Friday from noon to 6 p.m. and Saturday and Sunday from noon to 5 p.m. \nThank you\, Winnipeg!\nYour support helps us keep giving our dogs the best care possible. Together\, we can make this season one for our dogs to remember.
URL:https://orlikow.ca/event/youre-invited-spend-a-holiday-afternoon-with-our-dogs/
END:VEVENT
BEGIN:VEVENT
DTSTART;TZID=America/Winnipeg:20251211T110000
DTEND;TZID=America/Winnipeg:20251211T140000
DTSTAMP:20260419T111817
CREATED:20251202T184732Z
LAST-MODIFIED:20251205T165444Z
UID:4124-1765450800-1765461600@orlikow.ca
SUMMARY:Pembina Active Living Holiday Party
DESCRIPTION:
URL:https://orlikow.ca/event/pembina-active-living-holiday-party/
END:VEVENT
BEGIN:VEVENT
DTSTART;TZID=America/Winnipeg:20251204T173000
DTEND;TZID=America/Winnipeg:20251204T193000
DTSTAMP:20260419T111817
CREATED:20251201T191435Z
LAST-MODIFIED:20251201T191435Z
UID:4111-1764869400-1764876600@orlikow.ca
SUMMARY:QUESTION  TIME ASK ABOUT LIFE IN CANADA
DESCRIPTION:
URL:https://orlikow.ca/event/question-time-ask-about-life-in-canada/
END:VEVENT
BEGIN:VEVENT
DTSTART;TZID=America/Winnipeg:20251204T090000
DTEND;TZID=America/Winnipeg:20251218T200000
DTSTAMP:20260419T111817
CREATED:20251201T182444Z
LAST-MODIFIED:20251201T182444Z
UID:4105-1764838800-1766088000@orlikow.ca
SUMMARY:Academy Road Holiday Nights
DESCRIPTION:
URL:https://orlikow.ca/event/academy-road-holiday-nights/
END:VEVENT
BEGIN:VEVENT
DTSTART;TZID=America/Winnipeg:20251130T100000
DTEND;TZID=America/Winnipeg:20251130T150000
DTSTAMP:20260419T111817
CREATED:20251114T171504Z
LAST-MODIFIED:20251114T193935Z
UID:4048-1764496800-1764514800@orlikow.ca
SUMMARY:Corydon Community Centre is hosting it’s annual craft sale!!
DESCRIPTION:Sunday\, November 30\, 2025\n\n\nTime:\n10:00am – 3:00pm\n\n\nSite:\nCrescentwood site (1170 Corydon Ave)\n\n\n\n\nCrafters: Spaces are limited and are guaranteed by payment only \nThe 2025 Craft Sale is now full! See vendors and more …\nhttps://corydoncc.com/special-events/craft-sale/ \nFor more information please email Christine at ckieloch@corydoncc.com
URL:https://orlikow.ca/event/corydon-community-centre-is-hosting-its-annual-craft-sale/
LOCATION:Corydon Community Centre – Crescentwood Site\, 1170 Corydon Ave\, Winnipeg\, Manitoba\, R3M 0Z1\, Canada
END:VEVENT
BEGIN:VEVENT
DTSTART;TZID=America/Winnipeg:20251128T170000
DTEND;TZID=America/Winnipeg:20251128T190000
DTSTAMP:20260419T111817
CREATED:20251120T170753Z
LAST-MODIFIED:20251120T170753Z
UID:4081-1764349200-1764356400@orlikow.ca
SUMMARY:Holy Family Perogy Supper
DESCRIPTION:
URL:https://orlikow.ca/event/holy-family-perogy-supper-2/
LOCATION:Holy Family Ukrainian Church\, 1001 Grant Ave\, Winnipeg\, Manitoba\, R3M1Y3\, Canada
END:VEVENT
BEGIN:VEVENT
DTSTART;TZID=America/Winnipeg:20251125T173000
DTEND;TZID=America/Winnipeg:20251125T200000
DTSTAMP:20260419T111817
CREATED:20251117T185713Z
LAST-MODIFIED:20251117T185713Z
UID:4064-1764091800-1764100800@orlikow.ca
SUMMARY:PARENTING  IN CANADA\,  RAISING KIDS IN CANADA
DESCRIPTION:
URL:https://orlikow.ca/event/parenting-in-canada-raising-kids-in-canada/
END:VEVENT
BEGIN:VEVENT
DTSTART;TZID=America/Winnipeg:20251122T190000
DTEND;TZID=America/Winnipeg:20251122T210000
DTSTAMP:20260419T111817
CREATED:20251118T172859Z
LAST-MODIFIED:20251118T172900Z
UID:4068-1763838000-1763845200@orlikow.ca
SUMMARY:Sisters of the Holy Rock
DESCRIPTION:
URL:https://orlikow.ca/event/sisters-of-the-holy-rock/
LOCATION:St. Georges Church\, 168 Wilton St.\, Winnipeg\, Manitoba\, R3M3C3\, Canada
END:VEVENT
BEGIN:VEVENT
DTSTART;TZID=America/Winnipeg:20251120T173000
DTEND;TZID=America/Winnipeg:20251120T193000
DTSTAMP:20260419T111817
CREATED:20251117T185426Z
LAST-MODIFIED:20251117T185426Z
UID:4060-1763659800-1763667000@orlikow.ca
SUMMARY:EDUCATION IN CANADA - POST SECONDARY STUDIES
DESCRIPTION:
URL:https://orlikow.ca/event/education-in-canada-post-secondary-studies/
END:VEVENT
BEGIN:VEVENT
DTSTART;TZID=America/Winnipeg:20251119T130000
DTEND;TZID=America/Winnipeg:20251119T143000
DTSTAMP:20260419T111817
CREATED:20251117T171510Z
LAST-MODIFIED:20251117T171511Z
UID:4056-1763557200-1763562600@orlikow.ca
SUMMARY:Navigating the Maintenance Enforcement Program and Supervised Parenting Time
DESCRIPTION:
URL:https://orlikow.ca/event/maintenance-enforcement-program/
END:VEVENT
BEGIN:VEVENT
DTSTART;TZID=America/Winnipeg:20251108T090000
DTEND;TZID=America/Winnipeg:20251108T130000
DTSTAMP:20260419T111817
CREATED:20251030T165604Z
LAST-MODIFIED:20251030T165604Z
UID:4010-1762592400-1762606800@orlikow.ca
SUMMARY:Harrow United Christmas Garage Sale
DESCRIPTION:  \nSat Nov.8 \nGarage Sale\, \nHarrow United Church will be selling Christmas items\, small treasures\, handmade crafts and cards\, baking and frozen soups. \nWe will be open from 9:00-1:00 pm.
URL:https://orlikow.ca/event/christmas-garage-sale-nov-8/
LOCATION:Harrow United Church\, 955 Mulvey Ave\, Winnipeg\, Manitoba\, Canada
END:VEVENT
BEGIN:VEVENT
DTSTART;TZID=America/Winnipeg:20251025T183000
DTEND;TZID=America/Winnipeg:20251025T210000
DTSTAMP:20260419T111817
CREATED:20251020T155109Z
LAST-MODIFIED:20251020T155109Z
UID:3986-1761417000-1761426000@orlikow.ca
SUMMARY:Halloween Howl
DESCRIPTION:TRICK-OR-TREAT!\nDate: Saturday\, October 25\, 2025 \nTime: 6:30PM – 9:00PM\nNote: Doors open at 6:00PM\, entertainment and trick-or-treating will begin at 6:30PM \nPrice: $20 (plus GST) per person\nNote: Members save 10%! \nWant a night of Halloween DELIGHT? Then join us for fangtastic family entertainment at the 27th Annual Halloween Howl! Collect treats in 12 indoor ghastly galleries\, participate in spooktacular activities\, make creepy crafts\, and have some ghoulish fun. \nCostumes are optional but will make the event so much more fun! For the safety and security of all event guests\, if you or your child’s costume includes a toy weapon or a mask\, we respectfully ask that you leave those items at home. \n\nEvent Highlights\n\nExperience a ghoulish dance party with special guest DJ Mama Cutsworth\nCollect treats in each of the museum’s 12 galleries\nMake some new live animal friends from Wildlife Haven Rehabilitation Centre\nGrab a souvenir family photo from the Pixels & Giggles photo boo-th\nMeet & Greet with Mick E. Moose\, mascot of the Winnipeg Jets!\nMake-and-take home your very own creepy craft\nEnjoy sweet treats and healthy snacks\nAnd more!\n\nTicket Information\nTickets are on sale now and will be available for purchase while supplies last via the following methods: \nOnline – Click here\nIn Person – At the Children’s Museum’s Admissions Desk\nBy Telephone – Call 204.924.4000 \nAdditional Information: \n\nAll Halloween Howl ticket sales are non-refundable.\nThe Children’s Museum reserves the right to restrict admitting children unaccompanied by adults as well as adults unaccompanied by children.\nEarly Bird discount offer will be in effect until 11:59PM on Tuesday\, September 30\, 2025.\nThis event has sold-out in previous years. Avoid disappointment – we strongly recommend purchasing tickets in advance to guarantee their availability.\nSee complete Halloween Howl Ticket Terms & Conditions here.
URL:https://orlikow.ca/event/halloween-howl-2/
LOCATION:Manitoba Children’s Museum\, 45 Forks Market Rd\, Winnipeg\, MB\, R3C 4T6\, Canada
END:VEVENT
END:VCALENDAR